BEGIN:VCALENDAR
VERSION:2.0
PRODID:-//hacksw/handcal//NONSGML v1.0//EN
CALSCALE:GREGORIAN
BEGIN:VEVENT
DESCRIPTION:Leerlingen om 12.00 uur vrij
SUMMARY:Leerlingen om 12.00 uur vrij
DTSTART:20221223T093100Z
DTSTAMP:20260421T182544Z
UID:69e7c128a0f3a
END:VEVENT
END:VCALENDAR